BEGIN:VCALENDAR
VERSION:2.0
PRODID:-//Britannia - ECPv6.7.0//NONSGML v1.0//EN
CALSCALE:GREGORIAN
METHOD:PUBLISH
X-WR-CALNAME:Britannia
X-ORIGINAL-URL:http://britannia.trc-staging.net
X-WR-CALDESC:Events for Britannia
REFRESH-INTERVAL;VALUE=DURATION:PT1H
X-Robots-Tag:noindex
X-PUBLISHED-TTL:PT1H
BEGIN:VTIMEZONE
TZID:UTC
BEGIN:STANDARD
TZOFFSETFROM:+0000
TZOFFSETTO:+0000
TZNAME:UTC
DTSTART:20250101T000000
END:STANDARD
END:VTIMEZONE
BEGIN:VEVENT
DTSTART;VALUE=DATE:20250602
DTEND;VALUE=DATE:20250607
DTSTAMP:20260424T033642
CREATED:20250220T102659Z
LAST-MODIFIED:20250220T101916Z
UID:20807-1748822400-1749254399@britannia.trc-staging.net
SUMMARY:Britannia Academy Week 2025
DESCRIPTION:We are pleased to confirm that the Britannia Members’ P&I Academy will be taking place from 2-6 June this year. \nIt is a week-long programme of seminars\, workshops and networking events held in the London office\, aimed at our Members’ more junior and less experienced staff.  \nThe Academy week aims to provide delegates with an introduction to Britannia and all aspects of P&I and FD&D insurance. There is also a full programme of social events including dining out\, a tour of the Lloyd’s building in the City of London and a trip to a West End theatre show. \nIf you would like more information or are interested in registering for the week\, please contact us as soon as possible at britanniacommunications@tindallriley.com.
URL:http://britannia.trc-staging.net/maritime-trade-event/britannia-academy-week-2025
LOCATION:Britannia P&I – London Office\, Regis House\, 45 King William Street\, London\, EC4R 9AN\, United Kingdom
CATEGORIES:Britannia P&I Events
ATTACH;FMTTYPE=image/png:http://britannia.trc-staging.net/wp-content/uploads/2025/02/Website-event-featured-image.png
ORGANIZER;CN="Britannia P&I":MAILTO:info@britanniapandi.com
END:VEVENT
END:VCALENDAR