BEGIN:VCALENDAR
VERSION:2.0
PRODID:-//Britannia - ECPv6.7.0//NONSGML v1.0//EN
CALSCALE:GREGORIAN
METHOD:PUBLISH
X-ORIGINAL-URL:http://britannia.trc-staging.net
X-WR-CALDESC:Events for Britannia
REFRESH-INTERVAL;VALUE=DURATION:PT1H
X-Robots-Tag:noindex
X-PUBLISHED-TTL:PT1H
BEGIN:VTIMEZONE
TZID:Europe/Paris
BEGIN:DAYLIGHT
TZOFFSETFROM:+0100
TZOFFSETTO:+0200
TZNAME:CEST
DTSTART:20250330T010000
END:DAYLIGHT
BEGIN:STANDARD
TZOFFSETFROM:+0200
TZOFFSETTO:+0100
TZNAME:CET
DTSTART:20251026T010000
END:STANDARD
END:VTIMEZONE
BEGIN:VEVENT
DTSTART;TZID=Europe/Paris:20250616T080000
DTEND;TZID=Europe/Paris:20250618T170000
DTSTAMP:20260423T235821
CREATED:20241002T163442Z
LAST-MODIFIED:20241016T125631Z
UID:19356-1750060800-1750266000@britannia.trc-staging.net
SUMMARY:Marine Money Week New York - 2025
DESCRIPTION:Celebrating its 37th year\, Marine Money Week remains the premier event for global ship finance professionals. This annual gathering in New York City is a hotbed of activity\, packed with productive meetings\, insightful sessions\, and endless networking opportunities. \nFrom exclusive private meetings to lively industry discussions and unforgettable social events\, Marine Money Week packs a lot in. Build lasting relationships\, stay ahead of market trends\, and close deals in a dynamic and efficient environment.
URL:http://britannia.trc-staging.net/maritime-trade-event/marine-money-week-new-york-2025
LOCATION:The Pierre Hotel\, 2 East 61st St\, New York\, NY\, 10065\, United States
CATEGORIES:Finance
ATTACH;FMTTYPE=image/jpeg:http://britannia.trc-staging.net/wp-content/uploads/2024/10/new_york_1000-Image.jpg
ORGANIZER;CN="Marine Money":MAILTO:info@marinemoney.com
END:VEVENT
END:VCALENDAR